BEGIN:VCALENDAR
PRODID:-//MIADI//DE
BEGIN:VEVENT
UID:Galerie dieKUNSTWERKerin -1358256
SUMMARY:Galerie dieKUNSTWERKerin 
DESCRIPTION:Internationale\, zeitgenössische Kunst. Auftragsmalerei. Maritime Kunst. Skulpturen. • diekunstwerkerin.de
LOCATION:Galerie dieKUNSTWERKerin Ninette Mathiessen, Bertlingstraße 3, 23570 Travemünde, Deutschland
DTSTART:20261010T120000
DTEND:20261010T170000
END:VEVENT
END:VCALENDAR