BEGIN:VCALENDAR
PRODID:-//MIADI//DE
BEGIN:VEVENT
UID:Galerie dieKUNSTWERKerin -1358243
SUMMARY:Galerie dieKUNSTWERKerin 
DESCRIPTION:Internationale\, zeitgenössische Kunst. Auftragsmalerei. Maritime Kunst. Skulpturen. • diekunstwerkerin.de
LOCATION:Galerie dieKUNSTWERKerin Ninette Mathiessen, Bertlingstraße 3, 23570 Travemünde, Deutschland
DTSTART:20260918T120000
DTEND:20260918T170000
END:VEVENT
END:VCALENDAR