BEGIN:VCALENDAR
PRODID:-//MIADI//DE
BEGIN:VEVENT
UID:Galerie dieKUNSTWERKerin -1112597
SUMMARY:Galerie dieKUNSTWERKerin 
DESCRIPTION:Internationale\, zeitgenössische Kunst. Auftragsmalerei. Maritime Kunst. Skulpturen. • diekunstwerkerin.de
LOCATION:Galerie dieKUNSTWERKerin Ninette Mathiessen, Bertlingstraße 3, 23570 Travemünde, Deutschland
DTSTART:20260710T120000
DTEND:20260710T170000
END:VEVENT
END:VCALENDAR