BEGIN:VCALENDAR
PRODID:-//MIADI//DE
BEGIN:VEVENT
UID:Bücherstube im Gesellschaftshaus-1059068
SUMMARY:Bücherstube im Gesellschaftshaus
DESCRIPTION:Die Fundgrube für Travemünder:innen und Urlaubsgäste! • gvt-info.de 
LOCATION:Gesellschaftshaus Travemünde, Torstraße 1, 23570 Travemünde, Deutschland
DTSTART:20260805T150000
DTEND:20260805T170000
END:VEVENT
END:VCALENDAR