BEGIN:VCALENDAR
PRODID:-//MIADI//DE
BEGIN:VEVENT
UID:Besichtigung der Viermastbark Passat -814105
SUMMARY:Besichtigung der Viermastbark Passat 
DESCRIPTION:Auf historischen Planken eine spannend aufbereitete Reise durch die bewegte Geschichte des imposanten Großseglers erleben. • luebeck.de/passat
LOCATION:Viermastbark Passat, Priwallpromenade 3a, 23570 Travemünde, Deutschland
DTSTART:20260710T100000
DTEND:20260710T170000
END:VEVENT
END:VCALENDAR