BEGIN:VCALENDAR
PRODID:-//MIADI//DE
BEGIN:VEVENT
UID:In memoriam Ella Fitzgerald-1363513
SUMMARY:In memoriam Ella Fitzgerald - Gedenkkonzert
DESCRIPTION:trioPLUS feat. Julie Silvera mit Peter Ortmann\, Klvier\; Florian Galow\, Kontrabass\; Oliver Sonntag\, Schlagzeug
LOCATION:Musikabteilung der Stadtbibliothek, Hundestraße 5-17, 23552 Lübeck, Deutschland
DTSTART:20260612T170000
DTEND:20260612T183000
END:VEVENT
END:VCALENDAR