BEGIN:VCALENDAR
PRODID:-//MIADI//DE
BEGIN:VEVENT
UID:Gottesdienst zum Jahreswechsel mit Pauken und Trompeten mit Propst Oliver Erckens-1363244
SUMMARY:Gottesdienst zum Jahreswechsel mit Pauken und Trompeten mit Propst Oliver Erckens
DESCRIPTION:Gottesdienst zum Jahreswechsel in lutherischer Tradition.
LOCATION:St. Marien, Marienkirchhof 1, 23552 Lübeck, Deutschland
DTSTART:20261231T150000
DTEND:20261231T160000
END:VEVENT
END:VCALENDAR