BEGIN:VCALENDAR
PRODID:-//MIADI//DE
BEGIN:VEVENT
UID:Gedenk-Andacht openair auf dem Schrangen/Weihnachtsmarkt zum Weltaidstag-1363242
SUMMARY:Gedenk-Andacht openair auf dem Schrangen/Weihnachtsmarkt zum Weltaidstag
DESCRIPTION:
LOCATION:St. Marien, Marienkirchhof 1, 23552 Lübeck, Deutschland
DTSTART:20261201T150000
DTEND:20261201T160000
END:VEVENT
END:VCALENDAR