BEGIN:VCALENDAR
PRODID:-//MIADI//DE
BEGIN:VEVENT
UID:Literarischer Strandspaziergang in Travemünde-1363228
SUMMARY:Literarischer Strandspaziergang in Travemünde
DESCRIPTION:Wandele auf den Spuren der Buddenbrooks durch Travemünde! • travemuende-tourismus.de/buchen/erlebnisse/erlebnisse
LOCATION:Treffpunkt: Tourist-Information Travemünde, Am Leuchtenfeld 10a\, Travepromenade, 23570 Travemünde, Deutschland
DTSTART:20260628T140000
DTEND:20260628T160000
END:VEVENT
END:VCALENDAR