BEGIN:VCALENDAR
PRODID:-//MIADI//DE
BEGIN:VEVENT
UID:Sundown-Konzert im Geschichtserlebnisraum Roter Hahn-1363224
SUMMARY:Sundown-Konzert im Geschichtserlebnisraum Roter Hahn
DESCRIPTION:Bei diesem Lagerfeuerkonzert am Kloster gemeinsam den Sommerabend genießen. • geschichtserlebnisraum.de
LOCATION:Geschichtserlebnisraum Roter Hahn e.V., Pommernring 58, 23569 Travemünde / Kücknitz, Deutschland
DTSTART:20260815T180000
DTEND:20260815T210000
END:VEVENT
END:VCALENDAR