BEGIN:VCALENDAR
PRODID:-//MIADI//DE
BEGIN:VEVENT
UID:Vågsbygd Skolemusikk | Konzert-1363209
SUMMARY:Vågsbygd Skolemusikk | Konzert
DESCRIPTION:Norwegische Musikerinnen und Musiker zu Besuch an der Ostee. • vaagsbygd-skolemusikk.no
LOCATION:Brügmanngarten Travemünde, Am Brügmanngarten, 23570 Travemünde, Deutschland
DTSTART:20260623T120000
DTEND:20260623T140000
END:VEVENT
END:VCALENDAR