BEGIN:VCALENDAR
PRODID:-//MIADI//DE
BEGIN:VEVENT
UID:1. Lübecker Blaulichttag | Familienfest im Brügmanngarten-1363208
SUMMARY:1. Lübecker Blaulichttag | Familienfest im Brügmanngarten
DESCRIPTION:Lebensretter:innen aus der Nähe erkunden! 
LOCATION:Brügmanngarten Travemünde, Am Brügmanngarten, 23570 Travemünde, Deutschland
DTSTART:20260627T100000
DTEND:20260627T180000
END:VEVENT
END:VCALENDAR