BEGIN:VCALENDAR
PRODID:-//MIADI//DE
BEGIN:VEVENT
UID:Italienischer Markt am Traveufer-1363200
SUMMARY:Italienischer Markt am Traveufer
DESCRIPTION:Sommer\, Sonne und Genuss - Feinkost und Kunsthandwerk aus Italien entdecken. • athenainternational.eu
LOCATION:Tornadowiese Travemünde, Travepromenade, 23570 Travemünde, Deutschland
DTSTART:20260626T090000
DTEND:20260626T200000
END:VEVENT
END:VCALENDAR