BEGIN:VCALENDAR
PRODID:-//MIADI//DE
BEGIN:VEVENT
UID:Der Passat Chor | Konzert-1363195
SUMMARY:Der Passat Chor | Konzert
DESCRIPTION:Maritimes zum Mitsingen aus aller Welt. • passatchor.de
LOCATION:Brügmanngarten Travemünde, Am Brügmanngarten, 23570 Travemünde, Deutschland
DTSTART:20260607T170000
DTEND:20260607T180000
END:VEVENT
END:VCALENDAR