BEGIN:VCALENDAR
PRODID:-//MIADI//DE
BEGIN:VEVENT
UID:Landesmeisterschaften Pétanque Triplette Formé-1363181
SUMMARY:Landesmeisterschaften Pétanque Triplette Formé
DESCRIPTION:Gucken und staunen - beim Pétanque Turnier vor eindrucksvoller Ostsee-Kulisse! Treffpunkt für Teilnehmende und Pétanque-Begeisterte. • cdb-luebeck.de
LOCATION:Brügmanngarten Travemünde, Am Brügmanngarten, 23570 Travemünde, Deutschland
DTSTART:20260503T100000
DTEND:20260503T180000
END:VEVENT
END:VCALENDAR