BEGIN:VCALENDAR
PRODID:-//MIADI//DE
BEGIN:VEVENT
UID:Bilderbuchkino in der Kinder- und Jugendbibliothek-1363124
SUMMARY:Bilderbuchkino in der Kinder- und Jugendbibliothek - Thema: Tierisch gut!
DESCRIPTION:Für Kinder von 4-7 Jahren werden Bilder auf einer großen Leinwand gezeigt und die Geschichten dazu vorgelesen.
LOCATION:Bibliothek der Hansestadt Lübeck, Hundestraße 5-17, 23552 Lübeck, Deutschland
DTSTART:20260521T160000
DTEND:20260521T164500
END:VEVENT
END:VCALENDAR