BEGIN:VCALENDAR
PRODID:-//MIADI//DE
BEGIN:VEVENT
UID:Pflanzentauschbörse-1363123
SUMMARY:Pflanzentauschbörse - im Foyer der Zentralbibliothek
DESCRIPTION:Bringen Sie Ihre überschüssigen Gartenpflanzen und tauschen Sie mit anderen.
LOCATION:Bibliothek der Hansestadt Lübeck, Hundestraße 5-17, 23552 Lübeck, Deutschland
DTSTART:20260515T160000
DTEND:20260515T180000
END:VEVENT
END:VCALENDAR