BEGIN:VCALENDAR
PRODID:-//MIADI//DE
BEGIN:VEVENT
UID:Gratis Comic Tag-1363120
SUMMARY:Gratis Comic Tag
DESCRIPTION:Der GRATIS COMIC TAG wurde 2010 ins Leben gerufen. Die Idee ist klar: einmal im Jahr kann man eine (Comic-)BuchHandlung oder auch Bibliothek besuchen und erhält vor Ort ein paar Comic-Hefte gratis.
LOCATION:Bibliothek der Hansestadt Lübeck, Hundestraße 5-17, 23552 Lübeck, Deutschland
DTSTART:20260509T100000
DTEND:20260509T140000
END:VEVENT
END:VCALENDAR