BEGIN:VCALENDAR
PRODID:-//MIADI//DE
BEGIN:VEVENT
UID:SUPERKUNSTFESTIVAL 2026 in Lübeck-1362681
SUMMARY:SUPERKUNSTFESTIVAL 2026 in Lübeck
DESCRIPTION:Deutschlands größtes inklusives Festival versetzt dich in einen wahren Kulturrausch! • superkunstfestival.de
LOCATION:Campus der Diakonie Nord Nord Ost, Triftstraße 139-143, 23554 Lübeck, Deutschland
DTSTART:20260612T150000
DTEND:20260612T235900
END:VEVENT
END:VCALENDAR