BEGIN:VCALENDAR
PRODID:-//MIADI//DE
BEGIN:VEVENT
UID:Sonntagsdialoge in der Kunsthalle -1362470
SUMMARY:Sonntagsdialoge in der Kunsthalle 
DESCRIPTION:
LOCATION:Kunsthalle St. Annen, St. Annen-Straße 15, 23552 Lübeck, Deutschland
DTSTART:20260628T150000
DTEND:20260628T160000
END:VEVENT
END:VCALENDAR