BEGIN:VCALENDAR
PRODID:-//MIADI//DE
BEGIN:VEVENT
UID:POPUP LÜBECK meets GO.GRØØN-Messe-1362386
SUMMARY:POPUP LÜBECK meets GO.GRØØN-Messe
DESCRIPTION:POPUP LÜBECK - erlebe spontane Kulturmomente im Rahmen der Nachhaltigkeitsmesse GO.GRØØN am 25. und 26. April 2026. • luebeck-tourismus.de/kultur/popup-luebeck
LOCATION:rund um die Musik- und Kongresshalle Lübeck, Willy-Brandt-Allee 10, 23554 Lübeck, Deutschland
DTSTART:20260426T100000
DTEND:20260426T180000
END:VEVENT
END:VCALENDAR