BEGIN:VCALENDAR
PRODID:-//MIADI//DE
BEGIN:VEVENT
UID:Ostseeweg Lübeck 2026 | Wander-Challenge-1362367
SUMMARY:Ostseeweg Lübeck 2026 | Wander-Challenge
DESCRIPTION:Mach dich auf deinen Ostseeweg und entdecke Lübeck zu Fuß\, auf ganz neue Weise! • ostseeweg.com
LOCATION:Start & Ziel: Koberg Lübeck, Koberg, 23552 Lübeck, Deutschland
DTSTART:20260523T090000
DTEND:20260523T180000
END:VEVENT
END:VCALENDAR