BEGIN:VCALENDAR
PRODID:-//MIADI//DE
BEGIN:VEVENT
UID:Teddyklinik auf dem Markt am Rathaus-1362354
SUMMARY:Teddyklinik auf dem Markt am Rathaus
DESCRIPTION:Kuscheltier krank? Kommt vorbei! • teddyklinik.uni-luebeck.de
LOCATION:Markt am Rathaus, Markt, 23552 Lübeck, Deutschland
DTSTART:20260516T100000
DTEND:20260516T160000
END:VEVENT
END:VCALENDAR