BEGIN:VCALENDAR
PRODID:-//MIADI//DE
BEGIN:VEVENT
UID:Internationaler Museumstag bei den LÜBECKER MUSEEN-1362351
SUMMARY:Internationaler Museumstag bei den LÜBECKER MUSEEN
DESCRIPTION:Museen mit Freude entdecken. • die-luebecker-museen.de/museumstag
LOCATION:Die LÜBECKER MUSEEN, alle Häuser des Lübecker Museumsverbundes und ZKFL, 23552 Lübeck, Deutschland
DTSTART:20260517T100000
DTEND:20260517T180000
END:VEVENT
END:VCALENDAR