BEGIN:VCALENDAR
PRODID:-//MIADI//DE
BEGIN:VEVENT
UID:Emigranti -1362288
SUMMARY:Emigranti 
DESCRIPTION:vita e speranze
LOCATION:Museum Behnhaus Drägerhaus, Königstraße 9, 23552 Lübeck, Deutschland
DTSTART:20260426T190000
DTEND:20260426T203000
END:VEVENT
END:VCALENDAR