BEGIN:VCALENDAR
PRODID:-//MIADI//DE
BEGIN:VEVENT
UID:Das Gespenst von Canterville-1362285
SUMMARY:Das Gespenst von Canterville
DESCRIPTION:Konzertlesung nach Oscar Wilde\n\nfür Menschen ab 12 Jahren
LOCATION:Theater Lübeck\, Kammerspiele, Beckergrube 16, 23552 Lübeck, Deutschland
DTSTART:20270430T200000
DTEND:20270430T215500
END:VEVENT
END:VCALENDAR