BEGIN:VCALENDAR
PRODID:-//MIADI//DE
BEGIN:VEVENT
UID:Marli macht auf - Entdeckungstag im Energiequartier-1362242
SUMMARY:Marli macht auf - Entdeckungstag im Energiequartier - Abschlussveranstaltung zum Sanierungsmanagement
DESCRIPTION:An vier Orten auf Marli werden umgesetzte Maßnahmen vorgestellt - von neuen Carsharingfahrzeugen über Solaranlagen bis Blühwiesen.\n
LOCATION:Quartier Marli, Albert-Schweitzer-Straße 29A, 23566 Lübeck, Deutschland
DTSTART:20260507T160000
DTEND:20260507T190000
END:VEVENT
END:VCALENDAR