BEGIN:VCALENDAR
PRODID:-//MIADI//DE
BEGIN:VEVENT
UID:Was ist Freundschaft?-1362219
SUMMARY:Was ist Freundschaft?
DESCRIPTION:Philosophieren mit Kindern
LOCATION:Günter Grass-Haus, Glockengießerstraße, 23552 Lübeck, Deutschland
DTSTART:20261227T140000
DTEND:20261227T150000
END:VEVENT
END:VCALENDAR