BEGIN:VCALENDAR
PRODID:-//MIADI//DE
BEGIN:VEVENT
UID:Lübecker Sundown Tour - entspannt durchs Abendlicht paddeln-1361514
SUMMARY:Lübecker Sundown Tour - entspannt durchs Abendlicht paddeln
DESCRIPTION:Lübeck zeigt sich am Abend von einer ganz besonderen Seite - und genau das kannst du bei unserer Sundown Tour erleben
LOCATION:Mietstation Kanu-Center Falkenstraße, Falkenstraße 56, 23564 Lübeck, Deutschland
DTSTART:20260917T170000
DTEND:20260917T200000
END:VEVENT
END:VCALENDAR