BEGIN:VCALENDAR
PRODID:-//MIADI//DE
BEGIN:VEVENT
UID:Die anderen müssen sich an uns anpassen‘ - Mehrheitsgesellschaft &amp; Pluralismus in der postmodernen Gesellschaft-1361445
SUMMARY:Die anderen müssen sich an uns anpassen‘ - Mehrheitsgesellschaft & Pluralismus in der postmodernen Gesellschaft - Kostenfreier Vortrag mit Thorsten Kruijer (Kriminologe) - Diskussion über Werte\, Integration & Identität
DESCRIPTION:Wer ist ‚wir‘\, wer sind ‚die anderen‘? Thorsten Kruijer diskutiert das Spannungsfeld zwischen Mehrheitsgesellschaft und Pluralismus. Wie funktioniert Integration in einer postmodernen Gesellschaft? Kostenloser Vortrag mit Diskussion - ohne Anmeldung.
LOCATION:VHS Lübeck | Hüxstraße, Hüxstraße 118-120, 23552 Lübeck, Deutschland
DTSTART:20260611T180000
DTEND:20260611T193000
END:VEVENT
END:VCALENDAR