BEGIN:VCALENDAR
PRODID:-//MIADI//DE
BEGIN:VEVENT
UID:Dachbegrünung - Tipps für Eigentümer-1361253
SUMMARY:Dachbegrünung - Tipps für Eigentümer
DESCRIPTION:Die Veranstaltung inspiriert\, Dächer in grüne Oasen zu verwandeln.
LOCATION:MUK Musik- und Kongresshalle Lübeck, Willy-Brandt-Allee 10, 23554 Lübeck, Deutschland
DTSTART:20260425T163000
DTEND:20260425T173000
END:VEVENT
END:VCALENDAR