BEGIN:VCALENDAR
PRODID:-//MIADI//DE
BEGIN:VEVENT
UID:68. Nordische Filmtage-1361238
SUMMARY:68. Nordische Filmtage
DESCRIPTION:Die Nordische Filmtage Lübeck präsentieren jedes Jahr im November aktuelle Filme aus Nordeuropa und dem Baltikum und zählen zu den wichtigsten Festivals dieser Art in Europa.
LOCATION:Nordische Filmtage, Mühlenbrücke 11, 23552 Lübeck, Deutschland
DTSTART:20261108T130000
DTEND:20261108T230000
END:VEVENT
END:VCALENDAR