BEGIN:VCALENDAR
PRODID:-//MIADI//DE
BEGIN:VEVENT
UID:Sauna und Badewelt im aja Day SPA SEEBAD Travemünde-1361010
SUMMARY:Sauna und Badewelt im aja Day SPA SEEBAD Travemünde
DESCRIPTION:Gönne dir eine wohlige Auszeit am Meer in aja SPA Badewelt und Saunaparadies. • travemuende-tourismus.de/buchen/erlebnisse/erlebnisse/
LOCATION:aja SPA SEEBAD Travemünde, Am Leuchtenfeld 7, 23570 Travemünde, Deutschland
DTSTART:20260723T080000
DTEND:20260723T210000
END:VEVENT
END:VCALENDAR