BEGIN:VCALENDAR
PRODID:-//MIADI//DE
BEGIN:VEVENT
UID:WELTFISCHBRÖTCHENTAG in Travemünde-1360905
SUMMARY:WELTFISCHBRÖTCHENTAG in Travemünde
DESCRIPTION:An welchem Lieblingsplatz genießt du deinen maritimen Snack heute am Weltfischbrötchentag? Fischereihafen\, Promenade oder Strand? In unserem Seebad findest du alles! • travemuende-tourismus.de
LOCATION:Travemünde, , 23570 Travemünde, Deutschland
DTSTART:20260502T090000
DTEND:20260502T200000
END:VEVENT
END:VCALENDAR