BEGIN:VCALENDAR
PRODID:-//MIADI//DE
BEGIN:VEVENT
UID:Schnitzkurs für Kinder und Erwachsene | Essbare Stadt Rehderplatz-1360903
SUMMARY:Schnitzkurs für Kinder und Erwachsene | Essbare Stadt Rehderplatz
DESCRIPTION:Die Essbare Stadt Lübeck\, ein Projekt des Bereichs Umwelt-\, Natur- und Verbraucherschutz der Hansestadt Lübeck\, ist eine Plattform für Menschen\, Initiativen und Vereine\, die in ihrer Nachbarschaft kreativ und gemeinschaftlich Freiräume erschaffen.
LOCATION:Rehderplatz, Ecke Rehderbrücke / An der Mauer, 23552 Lübeck, Deutschland
DTSTART:20261107T140000
DTEND:20261107T163000
END:VEVENT
END:VCALENDAR