BEGIN:VCALENDAR
PRODID:-//MIADI//DE
BEGIN:VEVENT
UID:Mehl und Müsli selber machen | Essbare Stadt Rehderplatz-1360902
SUMMARY:Mehl und Müsli selber machen | Essbare Stadt Rehderplatz
DESCRIPTION:Die Essbare Stadt Lübeck\, ein Projekt des Bereichs Umwelt-\, Natur- und Verbraucherschutz der Hansestadt Lübeck\, ist eine Plattform für Menschen\, Initiativen und Vereine\, die in ihrer Nachbarschaft kreativ und gemeinschaftlich Freiräume erschaffen.
LOCATION:Rehderplatz, Ecke Rehderbrücke / An der Mauer, 23552 Lübeck, Deutschland
DTSTART:20260912T140000
DTEND:20260912T163000
END:VEVENT
END:VCALENDAR