BEGIN:VCALENDAR
PRODID:-//MIADI//DE
BEGIN:VEVENT
UID:Frische Farben für unsere Hochbeete | Essbare Stadt Rehderplatz-1360901
SUMMARY:Frische Farben für unsere Hochbeete | Essbare Stadt Rehderplatz
DESCRIPTION:Die Essbare Stadt Lübeck\, ein Projekt des Bereichs Umwelt-\, Natur- und Verbraucherschutz der Hansestadt Lübeck\, ist eine Plattform für Menschen\, Initiativen und Vereine\, die in ihrer Nachbarschaft kreativ und gemeinschaftlich Freiräume erschaffen.
LOCATION:Rehderplatz, Ecke Rehderbrücke / An der Mauer, 23552 Lübeck, Deutschland
DTSTART:20260606T140000
DTEND:20260606T163000
END:VEVENT
END:VCALENDAR