BEGIN:VCALENDAR
PRODID:-//MIADI//DE
BEGIN:VEVENT
UID:Lesung: &quot;Das Glück schmeckt nach Meer - Die Bonbonkocherei&quot;-1359931
SUMMARY:Lesung: "Das Glück schmeckt nach Meer - Die Bonbonkocherei"
DESCRIPTION:Birte Stährmann - Autorin\, Journalistin und Kommunikationswirtin - präsentiert heute Ausschnitte aus ihrem neuen Roman in der Stadtbibliothek Travemünde. • luebeck.de/de/stadtleben/kultur/stadtbibliothek/
LOCATION:Stadtteilbibliothek Travemünde, Nordlandring 15, 23570 Travemünde, Deutschland
DTSTART:20260505T190000
DTEND:20260505T210000
END:VEVENT
END:VCALENDAR