BEGIN:VCALENDAR
PRODID:-//MIADI//DE
BEGIN:VEVENT
UID:Friedenskonzert im Geschichtserlebnisraum Roter Hahn-1359802
SUMMARY:Friedenskonzert im Geschichtserlebnisraum Roter Hahn
DESCRIPTION:Gemeinsam ein Zeichen für Frieden setzen. • geschichtserlebnisraum.de
LOCATION:Geschichtserlebnisraum Roter Hahn e.V., Pommernring 58, 23569 Travemünde / Kücknitz, Deutschland
DTSTART:20260530T180000
DTEND:20260530T210000
END:VEVENT
END:VCALENDAR