BEGIN:VCALENDAR
PRODID:-//MIADI//DE
BEGIN:VEVENT
UID:Naturdenkmal Teutendorfer Moorteich | Führung mit dem Team der Naturwerkstatt-1359590
SUMMARY:Naturdenkmal Teutendorfer Moorteich | Führung mit dem Team der Naturwerkstatt
DESCRIPTION:Mit dem Team der Naturwerkstatt die Umgebung erkunden. • naturwerkstatt-priwall.de
LOCATION:Treffpunkt: Bushaltestelle Teutendorfer Weg (auf der REWE Seite), Teutendorfer Weg, 23570 Travemünde, Deutschland
DTSTART:20260509T130000
DTEND:20260509T150000
END:VEVENT
END:VCALENDAR