BEGIN:VCALENDAR
PRODID:-//MIADI//DE
BEGIN:VEVENT
UID:Was lebt in Teich und Tümpel? -1359589
SUMMARY:Was lebt in Teich und Tümpel? 
DESCRIPTION:Tiere und Pflanzen rund um die Naturschutzstation Dummersdorfer Ufer erkunden! • naturwerkstatt-priwall.de  dummersdorfer-ufer.de
LOCATION:Treffpunkt: Naturschutzstation Dummersdorfer Ufer, Resebergweg 11, 23569 Kücknitz bei Travemünde, Deutschland
DTSTART:20260515T150000
DTEND:20260515T163000
END:VEVENT
END:VCALENDAR