BEGIN:VCALENDAR
PRODID:-//MIADI//DE
BEGIN:VEVENT
UID:Licht aus, Spot an! Insektenlichtfallen auf dem Priwall-1359587
SUMMARY:Licht aus\, Spot an! Insektenlichtfallen auf dem Priwall
DESCRIPTION:Gemeinsam mit dem Team der Naturschutzstation Insekten in der Nacht entdecken. • naturwerkstatt-priwall.de
LOCATION:Treffpunkt: Naturwerkstatt Priwall, Fliegerweg 5-7, 23570 Travemünde, Deutschland
DTSTART:20260529T213000
DTEND:20260529T233000
END:VEVENT
END:VCALENDAR