BEGIN:VCALENDAR
PRODID:-//MIADI//DE
BEGIN:VEVENT
UID:Glanzvolle Silvester-Gala an der Ostsee-1359285
SUMMARY:Glanzvolle Silvester-Gala an der Ostsee
DESCRIPTION:Feiert den Jahreswechsel an der Ostsee bei der Silvester-Gala im SlowDown Travemünde. • slowdown-travemuende.de
LOCATION:SlowDown Travemünde, Priwallpromenade 20, 23570 Travemünde, Deutschland
DTSTART:20261231T180000
DTEND:20261231T235900
END:VEVENT
END:VCALENDAR