BEGIN:VCALENDAR
PRODID:-//MIADI//DE
BEGIN:VEVENT
UID:Weihnachtsbrunch-1359282
SUMMARY:Weihnachtsbrunch
DESCRIPTION:Entspannter Brunch an der Ostsee. So schön kann Weihnachten in Travemünde sein. • slowdown-travemuende.de
LOCATION:SlowDown Travemünde, Priwallpromenade 20, 23570 Travemünde, Deutschland
DTSTART:20261226T110000
DTEND:20261226T140000
END:VEVENT
END:VCALENDAR