BEGIN:VCALENDAR
PRODID:-//MIADI//DE
BEGIN:VEVENT
UID:Sven Plöger - Zieht euch warm an, es wird noch heißer!-1359198
SUMMARY:Sven Plöger - Zieht euch warm an\, es wird noch heißer!
DESCRIPTION:Im Rahmen der GO.GRØØN-Messe spricht Meteorologe Sven Plöger in der MuK über den Klimawandel und unsere Handlungsmöglichkeiten. 
LOCATION:MUK Musik- und Kongresshalle Lübeck, Willy-Brandt-Allee 10, 23554 Lübeck, Deutschland
DTSTART:20260425T150000
DTEND:20260425T170000
END:VEVENT
END:VCALENDAR