BEGIN:VCALENDAR
PRODID:-//MIADI//DE
BEGIN:VEVENT
UID:DER LETZTE KEKS IM SCHRANK-1359214
SUMMARY:DER LETZTE KEKS IM SCHRANK - Komödie von Michael Knoll und Lennart Mesenbring
DESCRIPTION:
LOCATION:Comödie Lübeck, Dr.-Julius-Leber-Straße 25, 23552 Lübeck, Deutschland
DTSTART:20270212T193000
DTEND:20270212T213000
END:VEVENT
END:VCALENDAR