BEGIN:VCALENDAR
PRODID:-//MIADI//DE
BEGIN:VEVENT
UID:DER LETZTE KEKS IM SCHRANK-1359202
SUMMARY:DER LETZTE KEKS IM SCHRANK - Komödie von Michael Knoll und Lennart Mesenbring
DESCRIPTION:
LOCATION:Comödie Lübeck, Dr.-Julius-Leber-Straße 25, 23552 Lübeck, Deutschland
DTSTART:20270115T193000
DTEND:20270115T213000
END:VEVENT
END:VCALENDAR