BEGIN:VCALENDAR
PRODID:-//MIADI//DE
BEGIN:VEVENT
UID:Energiewende von Nebenan -1359194
SUMMARY:Energiewende von Nebenan  - 7 Leuchttürme aus Lübeck
DESCRIPTION:Auftakt zur GO.GRØØN-Messe 2026: ARD-Journalist Markus Gürne ordnet die Energiewende global ein\, Lübecker "Leuchttürme" zeigen konkrete Projekte vor Ort. Eine Ausstellung stellt die sieben Vorreiter der Energiewende von nebenan künstlerisch vor.
LOCATION:MuK\, Großer Saal, Willy-Brandt-Allee 10, 23554 Lübeck, Deutschland
DTSTART:20260424T170000
DTEND:20260424T190000
END:VEVENT
END:VCALENDAR