BEGIN:VCALENDAR
PRODID:-//MIADI//DE
BEGIN:VEVENT
UID:Blood on the Clocktower - Spielerunde-1359193
SUMMARY:Blood on the Clocktower - Spielerunde
DESCRIPTION:In Kooperation mit der Intrige Nord vom Spieleverein Ludo Liubice e.V. lädt die Stadtbibliothek zum packende sozialen Deduktionsspiels Blood on the Clocktower ein.
LOCATION:Bibliothek der Hansestadt Lübeck, Hundestraße 5-17, 23552 Lübeck, Deutschland
DTSTART:20260430T160000
DTEND:20260430T220000
END:VEVENT
END:VCALENDAR