BEGIN:VCALENDAR
PRODID:-//MIADI//DE
BEGIN:VEVENT
UID:LIONS Flohmarkt Travemünde 2026 mit Konzert PASSAT CHOR-1359182
SUMMARY:LIONS Flohmarkt Travemünde 2026 mit Konzert PASSAT CHOR
DESCRIPTION:Flohmarkt für einen guten Zweck und anschließend maritime Klänge mit dem PASSAT CHOR. • travemuende.lions.de
LOCATION:Brügmanngarten Travemünde, Am Brügmanngarten, 23570 Travemünde, Deutschland
DTSTART:20260509T100000
DTEND:20260509T170000
END:VEVENT
END:VCALENDAR